BEGIN:VCALENDAR
VERSION:2.0
PRODID:-//NOBPC | New Orleans-Birmingham Psychoanalytic Center - ECPv6.15.20//NONSGML v1.0//EN
CALSCALE:GREGORIAN
METHOD:PUBLISH
X-ORIGINAL-URL:https://nobpc.org
X-WR-CALDESC:Events for NOBPC | New Orleans-Birmingham Psychoanalytic Center
REFRESH-INTERVAL;VALUE=DURATION:PT1H
X-Robots-Tag:noindex
X-PUBLISHED-TTL:PT1H
BEGIN:VTIMEZONE
TZID:UTC
BEGIN:STANDARD
TZOFFSETFROM:+0000
TZOFFSETTO:+0000
TZNAME:UTC
DTSTART:20150101T000000
END:STANDARD
END:VTIMEZONE
BEGIN:VEVENT
DTSTART;TZID=UTC:20160920T190000
DTEND;TZID=UTC:20161115T210000
DTSTAMP:20260424T092615
CREATED:20160816T232112Z
LAST-MODIFIED:20160914T200409Z
UID:510-1474398000-1479243600@nobpc.org
SUMMARY:Windows Into the Therapy Process 5 week course--Registration Extended
DESCRIPTION:Instructors: Denise Dorsey\, MD & Jamie Cromer\, LCSW ACSW \n Dates: Tuesdays September 20\, October 4 and 18\, and November 1 and 15 \nTime: 7:00 pm – 9:00 pm \nFee: $175 (book fee included) \n10 CME hours \nFor clinicians and those in training who are curious about what it is that psychodynamic therapists actually do\, we offer a “window” into the process and a chance to connect an introduction to theory with actual clinical material. Each class will begin with a brief theoretical description of a core clinical concept\, followed by the presentation and discussion of material from a long-term psychotherapy process. We welcome discussion. We encourage therapists working from within other theoretical frameworks to take this class. Some knowledge of psychodynamic theory and practice is helpful but not required. \nLearning Objectives:  \n• Identify characteristics aspects of clinical material. \n• Clarify the relationship of theory to clinical practice. \n• Describe various phases of treatment. \n• Describe the experience and use of transference and countertransference. \n• Define the concepts of conflict and compromise formation. \n• Describe multiple models of psychological functioning. \n• Describe the spectrum of psychodynamic treatments. \n• Begin to assess suitability for psychodynamic treatments. \n• Describe various types of defensive operations. \n• Describe the emotional challenges experienced by psychotherapists. \n• Describe the reasons why a therapist’s personal therapy is important. \n• Describe what is meant by the concept of psychotherapeutic frame. \nEnrollment is Limited. RSVP to nobpcenter@gmail.com. \nThis activity has been planned and implemented in accordance with the accreditation requirements and policies of the Accreditation Council for Continuing Medical Education (ACCME) through the joint providership of American Psychoanalytic Association and NOBPC. The American Psychoanalytic Association is accredited by the ACCME to provide continuing medical education for physicians. The American Psychoanalytic Association designates this Live Activity for a maximum of 10 AMA PRA Category 1 Credit(s)™. Physicians should claim only the credit commensurate with the extent of their participation in the activity. IMPORTANT DISCLOSURE INFORMATION FOR ALL LEARNERS: None of the planners and presenters of this CME program have any relevant financial relationships to disclose. \n  \n 
URL:https://nobpc.org/event/windows-into-the-therapy-process-5-week-course/
LOCATION:NOBPC\, 3624 Coliseum Street\, New Orleans\, LA\, 70115\, United States
CATEGORIES:All Events,Paid Events
END:VEVENT
END:VCALENDAR