BEGIN:VCALENDAR
VERSION:2.0
PRODID:-//NOBPC | New Orleans-Birmingham Psychoanalytic Center - ECPv6.15.20//NONSGML v1.0//EN
CALSCALE:GREGORIAN
METHOD:PUBLISH
X-WR-CALNAME:NOBPC | New Orleans-Birmingham Psychoanalytic Center
X-ORIGINAL-URL:https://nobpc.org
X-WR-CALDESC:Events for NOBPC | New Orleans-Birmingham Psychoanalytic Center
REFRESH-INTERVAL;VALUE=DURATION:PT1H
X-Robots-Tag:noindex
X-PUBLISHED-TTL:PT1H
BEGIN:VTIMEZONE
TZID:UTC
BEGIN:STANDARD
TZOFFSETFROM:+0000
TZOFFSETTO:+0000
TZNAME:UTC
DTSTART:20150101T000000
END:STANDARD
END:VTIMEZONE
BEGIN:VEVENT
DTSTART;TZID=UTC:20161016T154500
DTEND;TZID=UTC:20161016T184500
DTSTAMP:20260423T122626
CREATED:20160928T144246Z
LAST-MODIFIED:20160928T144533Z
UID:541-1476632700-1476643500@nobpc.org
SUMMARY:New Orleans Film Festival sponsorship of "My First Kiss and the People Involved"-reception to follow
DESCRIPTION:The New Orleans-Birmingham Psychoanalytic Center is once again teaming up with New Orleans Film Society by sponsoring a feature film screening as part of the annual New Orleans Film Festival. This exciting event will include the film screening of My First Kiss and The People Involved followed by an on-stage Q & A with the director and psychoanalysts from NOBPC. \nMy First Kiss and the People Involved \nSam is a silent young woman living in a group home. She shuns human contact and retreats into a world of her own – until her caregiver Lydia suddenly goes missing. As Sam sets out to find Lydia\, a shocking turn of events forces her to confront reality\, uncovering a tale of violence that shatters her fragile world. \nThere will be a reception for NOBPC members and attendees immediately following the screening. \nTicket Information: \nSeptember 26: Online tickets on sale for NOFS members + pass holders + Unlimited Film Package holders \nOctober 3: Online tickets on sale for general public www.neworleansfilmfestival.org \nOctober 10: Main Box Office + Merchandise Store + Pass Pick Up opens at Ace Hotel New Orleans
URL:https://nobpc.org/event/new-orleans-film-festival-sponsorship-of-my-first-kiss-and-the-people-involved-reception-to-follow/
LOCATION:Contemporary Arts Center\, 900 Camp Street\, New Orleans\, LA\, 70130\, United States
CATEGORIES:All Events,Free Events,Public Events
ORGANIZER;CN="New Orleans Film Society":MAILTO:info@neworleansfilmsociety.org
END:VEVENT
BEGIN:VEVENT
DTSTART;TZID=UTC:20161016T201500
DTEND;TZID=UTC:20161018T181500
DTSTAMP:20260423T122626
CREATED:20160928T150725Z
LAST-MODIFIED:20160928T151324Z
UID:545-1476648900-1476814500@nobpc.org
SUMMARY:New Orleans Film Festival Community Partner of 'Are We Not Cats?' and 'She Was Famous'
DESCRIPTION:In addition to sponsoring My First Kiss and the People Involved\, NOBPC is proud to be a community partner for two films: \n Are We Not Cats? A young garbage man loses his girlfriend\, job\, and his home\, but acquires an old truck. He takes a trip that quickly turns dreadful\, increasingly plagued by a compulsion to eat his own hair. Perhaps the only thing stranger than his new habit is his introduction to a young woman who does the same. \nScreening times:  \nSunday October 16 8:15pm Audubon Aquarium (1 Canal St.) \nMonday October 17 6:00pm Contemporary Arts Center (900 Camp St) \n  \nShe Was Famous A widowed college dropout finds herself going down a rabbit hole inspired by her recent discovery of Karl Marx and the German language\, only to learn that things have become a bit mental.  \nScreening time: \nTuesday October 18 6:15pm ACE Hotel (600 Carondelet St)
URL:https://nobpc.org/event/new-orleans-film-festival-community-partner-of-are-we-not-cats-and-she-was-famous/
LOCATION:LA
CATEGORIES:All Events,Free Events,Public Events
END:VEVENT
BEGIN:VEVENT
DTSTART;TZID=UTC:20161022T090000
DTEND;TZID=UTC:20161022T120000
DTSTAMP:20260423T122626
CREATED:20160606T170643Z
LAST-MODIFIED:20160914T200555Z
UID:488-1477126800-1477137600@nobpc.org
SUMMARY:Introduction to Psychoanalytic Political Psychology - Dr. Vamik Volkan--Registration strongly recommended (see below)
DESCRIPTION:  \nAs a presidential election year\, politics has assumed center stage again for collective discourse. This Scientific Presentation considers the psychological dynamics underlying certain aspects of global politics from the framework of psychoanalytic political psychology. Relevant to this realm of applied psychoanalysis are group psychology\, the role of psychological constructs in political movements whose members respond and resonate with each other in ways that lead to political movement\, religious fundamentalism\, terrorism and mass trauma.  The consequences of such phenomena carry relevance to modern political ideologies\, emerging leaders and their ability to garner support from their constituencies\, political alliances and conflict\, and modern challenges including the conscious and unconscious ideologies used to justify terrorism. Applications of these constructs will be made using a case study illustrating large group psychology\nLearning Objectives:\n•	Participants will gain knowledge related to the application of psychoanalytic constructs to world political events and movements and how the ideas and constructs used in clinical work apply to large groups and the societal/geopolitical events that these groups ultimately determine.\n•	Participants will gain knowledge and understanding of the role of trauma on cultural and societal concepts including the role of leaders\, chosen trauma\, entitlement ideology\, and the collapse of time that leads to modern enactments of historical grievances which\, in turn\, can be understood as driven by envy and perceived exclusion leading to the pursuit of “justice” and justified revenge.\n•	Participants will gain better understanding with individual patients whose responses to such events are tied to the links between their internal worlds and the external events driven by group phenomena. \nVamık Volkan\, MD\, DLFAPA\, FACPsa.\, is an Emeritus Professor of Psychiatry at the University of Virginia; an Emeritus Training and Supervising Analyst at the Washington Psychoanalytic Institute\, Washington\, DC and the Senior Erik Erikson Scholar at the Institute of Education and Research of the Austen Riggs Center\, Stockbridge\, Massachusetts. In addition to being the author of numerous articles and books on political psychology and psychoanalytic thought\, he is the founder of the International Society of Political Psychology (ISPP). \nREGISTRATION FORM \nThis activity has been planned and implemented in accordance with the accreditation requirements and policies of the Accreditation Council for Continuing Medical Education (ACCME) through the joint providership of American Psychoanalytic Association and NOBPC. The American Psychoanalytic Association is accredited by the ACCME to provide continuing medical education for physicians.  The American Psychoanalytic Association designates this Live Activity for a maximum of 3 AMA PRA Category 1 Credit(s)™. Physicians should claim only the credit commensurate with the extent of their participation in the activity. IMPORTANT DISCLOSURE INFORMATION FOR ALL LEARNERS: None of the planners and presenters of this CME program have any relevant financial relationships to disclose. \n\n 
URL:https://nobpc.org/event/dr-vamik-volkan-presenting-introduction-to-psychoanalytic-political-psychology/
LOCATION:Tulane University Lavin-Bernick Center\, Qatar Ballroom\, New Orleans\, United States
CATEGORIES:All Events,Public Events
END:VEVENT
END:VCALENDAR