BEGIN:VCALENDAR
VERSION:2.0
PRODID:-//NOBPC | New Orleans-Birmingham Psychoanalytic Center - ECPv6.15.20//NONSGML v1.0//EN
CALSCALE:GREGORIAN
METHOD:PUBLISH
X-ORIGINAL-URL:https://nobpc.org
X-WR-CALDESC:Events for NOBPC | New Orleans-Birmingham Psychoanalytic Center
REFRESH-INTERVAL;VALUE=DURATION:PT1H
X-Robots-Tag:noindex
X-PUBLISHED-TTL:PT1H
BEGIN:VTIMEZONE
TZID:UTC
BEGIN:STANDARD
TZOFFSETFROM:+0000
TZOFFSETTO:+0000
TZNAME:UTC
DTSTART:20160101T000000
END:STANDARD
END:VTIMEZONE
BEGIN:VEVENT
DTSTART;TZID=UTC:20170211T090000
DTEND;TZID=UTC:20170211T090000
DTSTAMP:20260421T161433
CREATED:20170110T220121Z
LAST-MODIFIED:20170113T182405Z
UID:559-1486803600-1486803600@nobpc.org
SUMMARY:Creative Listening and The Psychoanalytic Process-Dr. Fred Griffin-registration strongly encouraged
DESCRIPTION:Dr. Griffin will discuss creative listening and provide a conceptual framework by which works of literary fiction can be used to develop clinicians’ attunement to the expressiveness of language and to foster emotional receptivity to psychoanalytic experience. Dr. Griffin will use Virginia Woolf’s novel\, To the Lighthouse\, to teach engaged\, embodied analytic listening. This novel is unrivaled in capturing the interdependence of subjectivity and intersubjectivity that informs contemporary clinical psychoanalysis. Woolf achieves this feat by generating states of consciousness within and among characters\, which by way of imaginative empathy\, the reader can enter and occupy for a while. \nLearning Objectives:  \n\nExpand their capacities to listen for and identify the multi-sensorial therapeutic experience and to make fuller use of countertransference as a source of communication regarding the patient’s inner and relational worlds.\nMake use of this more visceral view of the transference-countertransference to discover more precise language that fits the patient’s states of consciousness\, affective tone\, and embodied sense of self.  \nApply these skills in the service of better attuned therapeutic engagement with patients\, by which to facilitate an analytic process that not only addresses psychic conflict\, but that also provides the potential for new development.\n\nFee for 3 Continuing Medical Education (CME) credits: $45 for NOBPC members; $75 non-members \nFred Griffin\, M.D. specializes in psychotherapy and psychoanalysis in Dallas\, Texas. He is board-certified in both\n psychiatry and psychoanalysis and is currently Clinical Professor of Psychiatry at University of Texas Southwestern\n Medical School and a Training and Supervising Analyst at the Dallas Psychoanalytic Center. Dr. Griffin is well\n published in the fields of psychotherapy\, psychoanalysis\, and narrative medicine. \nREGISTRATION FORM \nDIRECTIONS \nThis activity has been planned and implemented in accordance with the accreditation requirements and policies of the Accreditation Council for Continuing Medical Education (ACCME) through the joint providership of American Psychoanalytic Association and NOBPC. The American Psychoanalytic Association is accredited by the ACCME to provide continuing medical education for physicians.  The American Psychoanalytic Association designates this Live Activity for a maximum of 3 AMA PRA Category 1 Credit(s)™. Physicians should claim only the credit commensurate with the extent of their participation in the activity. IMPORTANT DISCLOSURE INFORMATION FOR ALL LEARNERS: None of the planners and presenters of this CME program have any relevant financial relationships to disclose.\n Psychologists and Social Workers may receive credit for this activity with a CME certificate
URL:https://nobpc.org/event/creative-listening-and-the-psychoanalytic-process-dr-fred-griffin-registration-strongly-encouraged/
LOCATION:Tulane University Anna Many Lounge\, Caroline Richardson Building
CATEGORIES:All Events,Free Events,Member Events,Public Events
END:VEVENT
END:VCALENDAR